BEGIN:VCALENDAR
VERSION:2.0
PRODID:-//Canacintra Mazatlán - ECPv6.15.20//NONSGML v1.0//EN
CALSCALE:GREGORIAN
METHOD:PUBLISH
X-WR-CALNAME:Canacintra Mazatlán
X-ORIGINAL-URL:https://canacintramazatlan.com.mx
X-WR-CALDESC:Eventos para Canacintra Mazatlán
REFRESH-INTERVAL;VALUE=DURATION:PT1H
X-Robots-Tag:noindex
X-PUBLISHED-TTL:PT1H
BEGIN:VTIMEZONE
TZID:America/Mazatlan
BEGIN:STANDARD
TZOFFSETFROM:-0700
TZOFFSETTO:-0700
TZNAME:MST
DTSTART:20250101T000000
END:STANDARD
END:VTIMEZONE
BEGIN:VEVENT
DTSTART;TZID=America/Mazatlan:20260307T090000
DTEND;TZID=America/Mazatlan:20260530T140000
DTSTAMP:20260421T023030
CREATED:20250610T221209Z
LAST-MODIFIED:20260112T184609Z
UID:3471-1772874000-1780149600@canacintramazatlan.com.mx
SUMMARY:DIPLOMADO EN LIDERAZGO CON COPETENCIAS DIRECTIVAS GENERACIÓN XXXV
DESCRIPTION:🎓 Impulsa tu liderazgo con visión estratégica en el Diplomado en Liderazgo con Competencias Directivas.Generación XXXVFortalece tus habilidades de liderazgo bajo el modelo de la Harvard Business School\, con un programa intensivo y práctico que ha formado a más de 1\,000 líderes en 33 generaciones. \n🗓 Inicio: sábado 7 de marzo de 2026.🕘 Horario: Sábados de 9:00 a.m. a 2:00 p.m.📚 Duración: Más de 105 horas | 13 sesionesMás de 1\,000 egresados en 34 generaciones24 nuevas habilidades repartidas en 13 prácticas sesionesRenovada versión de fundamentos bajo la metodología Harvard Business School y la nueva realidad. \n👨‍🏫 Imparte: Dr. Carlos Ríos GalvánConsultor senior con 30 años de experiencia formando líderes y organizaciones. \n En las instalaciones de Canacintra Mazatlán. Emilio Barragán No.147. Col. Centro. \nDiplomado basado en el conocimiento y metodologías de HARVARD University Global System\, CONACyT\, Business Cost Management\, STRATEX-Pro\, DISNEY Institute\, Business Flight Plan Proyect\, así como contenidos de modelos de las principales Universidades del Mundo. \n🎯 Dirigido a:Líderes de nivel medio y superior\, empresarios\, emprendedores\, consultores y todo aquel que desee potenciar su capacidad directiva en corto plazo. \n📦 Incluye:📘 Manuales | 🥇 Certificado | 🍷 Platillo de graduación | 🍪 Coffee break \n🚀 Cupo limitado – ¡Inscríbete y transforma tu forma de liderar! \n📩 Informes e inscripción:📲 WhatsApp: 669 101 2943✉️ informacion@canacintramazatlan.com.mx
URL:https://canacintramazatlan.com.mx/eventos/diplomado-en-liderazgo-con-copetencias-directivas/
LOCATION:Canacintra Mazatlán\, Av. Emilio Barragán #147 2do Piso\, Col. Centro\, Mazatlán\, Sinaloa\, 82000\, Mexico
CATEGORIES:DIPLOMADO
ATTACH;FMTTYPE=image/jpeg:https://canacintramazatlan.com.mx/wp-content/uploads/2025/06/image-25.jpg
END:VEVENT
BEGIN:VEVENT
DTSTART;TZID=America/Mazatlan:20260420T150000
DTEND;TZID=America/Mazatlan:20260421T190000
DTSTAMP:20260421T023030
CREATED:20260317T222712Z
LAST-MODIFIED:20260317T222745Z
UID:5126-1776697200-1776798000@canacintramazatlan.com.mx
SUMMARY:TALLER DE EXCEL: “NIVEL BÁSICO A INTERMEDIO”
DESCRIPTION:🔍 Domina las herramientas esenciales que toda empresa necesita \nSi tu trabajo depende de Excel y aún no lo dominas\, este taller es para ti. Una oportunidad ideal para fortalecer tus habilidades y mejorar tu productividad en el entorno laboral. \n💼 Dirigido a: Administrativos\, auxiliares contables\, emprendedores y toda persona interesada en aprovechar al máximo las herramientas de Excel. \n💡 Al finalizar\, podrás:✔️ Conocer el entorno de MS Excel✔️ Realizar operaciones diversas✔️ Aplicar fórmulas\, funciones\, formatos y gráficos✔️ Implementar protección y seguridad en tus archivos✔️ Utilizar herramientas de impresión y optimización✔️ Realizar combinación de correspondencia \n📅 Fechas:📆 Inicio: lunes 20 de abril de 2026📆 Término: martes 21 de abril de 2026 \n⏰ Horario: 3:00 p.m. a 7:00 p.m.👥 Modalidad: Presencial \n👨‍🏫 Instructor: M. en C. Sergio Ortega. Consultor especialista en Innovación y Transformación Disruptiva \n🏢 Sede:Instalaciones de CANACINTRA MazatlánAv. Emilio Barragán #147\, Col. Centro\, 2do piso \n📚 Estructura del taller:  \n2 sesiones\, 4 horas por sesión8 horas totalesCurso 100% práctico con ejemplos y casos reales \n💰 Beneficios:🔥 Precio especial para socios CANACINTRA🔥 Descuento para grupos de 3 personas o más \n🎯 Cupo limitadoInvierte en tu crecimiento profesional y fortalece tus habilidades digitales. \n📲 Informes e inscripciones:WhatsApp: 669 101 2943📩 informacion@canacintramazatlan.com.mx \n#LaFuerzaDeLaIndustria
URL:https://canacintramazatlan.com.mx/eventos/taller-de-excel-nivel-basico-a-intermedio-3/
LOCATION:Canacintra Mazatlán\, Av. Emilio Barragán #147 2do Piso\, Col. Centro\, Mazatlán\, Sinaloa\, 82000\, Mexico
CATEGORIES:TALLER
ATTACH;FMTTYPE=image/jpeg:https://canacintramazatlan.com.mx/wp-content/uploads/2026/03/taller-excel.jpg
END:VEVENT
END:VCALENDAR