BEGIN:VCALENDAR
VERSION:2.0
PRODID:-//Canacintra Mazatlán - ECPv6.15.20//NONSGML v1.0//EN
CALSCALE:GREGORIAN
METHOD:PUBLISH
X-ORIGINAL-URL:https://canacintramazatlan.com.mx
X-WR-CALDESC:Eventos para Canacintra Mazatlán
REFRESH-INTERVAL;VALUE=DURATION:PT1H
X-Robots-Tag:noindex
X-PUBLISHED-TTL:PT1H
BEGIN:VTIMEZONE
TZID:America/Mazatlan
BEGIN:STANDARD
TZOFFSETFROM:-0700
TZOFFSETTO:-0700
TZNAME:MST
DTSTART:20240101T000000
END:STANDARD
END:VTIMEZONE
BEGIN:VEVENT
DTSTART;TZID=America/Mazatlan:20250325T170000
DTEND;TZID=America/Mazatlan:20250401T213000
DTSTAMP:20260422T180404
CREATED:20250307T221525Z
LAST-MODIFIED:20250307T221743Z
UID:2900-1742922000-1743543000@canacintramazatlan.com.mx
SUMMARY:🌟 ¡Impulsa tu carrera con la Certificación White Belt! 🌟
DESCRIPTION:📢 ¡Conviértete en un Agente de Cambio con White Belt! ⚪️🎖️\nLa Cámara de la Industria de Transformación Mazatlán e International Lean Six Sigma te invitan a formar parte de una capacitación exclusiva en Mejora Continua. Obtén herramientas clave para aumentar la productividad\, eficiencia e innovación dentro de cualquier organización. \n✅ Certificación con aval internacional y vitalicio✅ Aprende a desarrollar proyectos internos de alto impacto✅ Implementa metodologías efectivas en tu empresa✅ Acceso a webinars especializados y gratuitos \n📅 Sesiones en vivo:📌 Martes 25 de marzo y martes 1 de abril⏰ Horario: 19:00 – 21:30 hrs (Centro de México)💻 Modalidad virtual con instructor en vivo \n📌 Inscripciones abiertas hasta el lunes 24 de marzo \n🔗 Regístrate aquí: https://tify.cc/Eyd6s📲 Únete a nuestro grupo de WhatsApp para más información \nPara cualquier duda\, comunícate con nosotros:📌 Teléfono de oficina: (669) 982-8304 y 06📌 WhatsApp: 669-310-4924📌 Correo: servicios@canacintramazatlan.com.mx \n🚀 ¡Transforma tu futuro profesional y conviértete en un Agente de Cambio! 🎖️
URL:https://canacintramazatlan.com.mx/eventos/%f0%9f%8c%9f-impulsa-tu-carrera-con-la-certificacion-white-belt-%f0%9f%8c%9f/
LOCATION:Sinaloa
CATEGORIES:Capacitación
ATTACH;FMTTYPE=image/png:https://canacintramazatlan.com.mx/wp-content/uploads/2025/03/canacintra-mzt_wb.png
ORGANIZER;CN="Canacintra Mazatl%C3%A1n":MAILTO:informacion@canacintramazatlan.com.mx, servicios@canacintramazatlan.com.mx
END:VEVENT
END:VCALENDAR