BEGIN:VCALENDAR
VERSION:2.0
PRODID:-//Canacintra Mazatlán - ECPv6.15.20//NONSGML v1.0//EN
CALSCALE:GREGORIAN
METHOD:PUBLISH
X-WR-CALNAME:Canacintra Mazatlán
X-ORIGINAL-URL:https://canacintramazatlan.com.mx
X-WR-CALDESC:Eventos para Canacintra Mazatlán
REFRESH-INTERVAL;VALUE=DURATION:PT1H
X-Robots-Tag:noindex
X-PUBLISHED-TTL:PT1H
BEGIN:VTIMEZONE
TZID:America/Mazatlan
BEGIN:STANDARD
TZOFFSETFROM:-0700
TZOFFSETTO:-0700
TZNAME:MST
DTSTART:20240101T000000
END:STANDARD
END:VTIMEZONE
BEGIN:VEVENT
DTSTART;TZID=America/Mazatlan:20250513T080000
DTEND;TZID=America/Mazatlan:20250513T170000
DTSTAMP:20260422T162951
CREATED:20250416T210142Z
LAST-MODIFIED:20250421T210859Z
UID:3081-1747123200-1747155600@canacintramazatlan.com.mx
SUMMARY:CERTIFICACIONES LEAN SIX SIGMA
DESCRIPTION:🔍 ¿Qué es Lean Six Sigma y por qué todos están hablando de esto?Es una metodología internacionalmente reconocida que mejora procesos\, reduce costos y aumenta la calidad en cualquier organización.¡Una herramienta clave para destacar en el mundo laboral! \n🎯 ¿A quién va dirigido?Ideal para estudiantes\, profesionistas\, emprendedores y líderes que buscan crecer y generar mayor impacto. \n🎓 Certifícate Lean Six Sigma con +50% de descuentoIncluye las 3 certificaciones principales:🟡 Yellow Belt (20 hrs)🟢 Green Belt (40 hrs)⚫ Black Belt (20 hrs) \n📚 Modalidad: 100% virtualEn sesiones en vivo + plataforma virtual con acceso por 1 año. \n🎁 Y recibe 3 cursos de regalo al inscribirte:🔹 Finanzas para no financieros🔹 Especialidad en Industria 4.0🔹 Especialidad en Core Tools \n✅ Coaching en proyectos✅ Manual y formatos descargables✅ Certificado con aval nacional e internacional (STPS\, CSSC\, ISSSP)✅ ¡Certificación vitalicia! \n💳 Precio especial y facilidades a 12 MSIPregunta por opciones preferenciales de inscripción 🤝 \n📲 Contáctanos:📞 669 310 4924📧 servicios@canacintramazatlan.com.mx \n🌟 ¡Transforma tu carrera con Lean Six Sigma!
URL:https://canacintramazatlan.com.mx/eventos/certificaciones-lean-six-sigma/
LOCATION:VIRTUAL
CATEGORIES:Capacitación
ATTACH;FMTTYPE=image/jpeg:https://canacintramazatlan.com.mx/wp-content/uploads/2025/04/WhatsApp-Image-2025-04-16-at-12.35.29-PM.jpeg
END:VEVENT
BEGIN:VEVENT
DTSTART;TZID=America/Mazatlan:20250520T100000
DTEND;TZID=America/Mazatlan:20250520T180000
DTSTAMP:20260422T162951
CREATED:20250508T210720Z
LAST-MODIFIED:20250508T210835Z
UID:3181-1747735200-1747764000@canacintramazatlan.com.mx
SUMMARY:CÓMO ATENDER UNA INSPECCIÓN DE SEGURIDAD Y SALUD EN EL TRABAJO
DESCRIPTION:¿CÓMO ATENDER UNA INSPECCIÓN DE SEGURIDAD Y SALUD EN EL TRABAJO?\nFecha: Martes 20 de mayo\, 2025Modalidad: En línea (vía Zoom)Duración: 6 horas (10:00 a 14:00 y 16:00 a 18:00 horas\, tiempo CDMX)Instructor: Ing. Rafael Rojas Cortez \n¿Por qué tomar este curso?\nLas inspecciones de la Secretaría del Trabajo y Previsión Social (STPS) pueden representar un gran reto si no se cuenta con el conocimiento adecuado. Este curso te brindará las herramientas necesarias para afrontar una visita de inspección con seguridad\, preparación y cumplimiento normativo. \nEstá dirigido a jefes de recursos humanos\, comisiones mixtas de higiene y seguridad\, encargados de mantenimiento y responsables del área de cumplimiento normativo. \n\nTemario general:\n\nIntroducción y tipos de inspección\nNormas Oficiales Mexicanas (NOM-STPS) vigentes\nProcedimiento administrativo de inspección\nRequisitos en materia de seguridad y salud\nTrámites ante la STPS\nCapacitación obligatoria\nProceso administrativo sancionador\n\n\nInformes e inscripciones:\n📧 Servicios@canacintramazatlan.com.mx📞 6693104924¡Asegura el cumplimiento normativo de tu empresa y evita sanciones!Inscríbete y prepárate para recibir cualquier inspección laboral con confianza.
URL:https://canacintramazatlan.com.mx/eventos/como-atender-una-inspeccion-de-seguridad-y-salud-en-el-trabajo/
LOCATION:VIRTUAL
CATEGORIES:Capacitación
ATTACH;FMTTYPE=image/jpeg:https://canacintramazatlan.com.mx/wp-content/uploads/2025/05/WhatsApp-Image-2025-05-05-at-1.31.47-PM-1.jpeg
END:VEVENT
BEGIN:VEVENT
DTSTART;TZID=America/Mazatlan:20250527T190000
DTEND;TZID=America/Mazatlan:20250603T213000
DTSTAMP:20260422T162951
CREATED:20250425T162755Z
LAST-MODIFIED:20250425T163133Z
UID:3094-1748372400-1748986200@canacintramazatlan.com.mx
SUMMARY:¡CERTIFICACIÓN WHITE BELT!
DESCRIPTION:La Mejora Continua no es sólo una metodología\, sino una ventaja competitiva 🔝 \nLa Cámara Nacional de la Industria de la Transformación Mazatlán\, en alianza con International Lean Six Sigma\, te invitamos a certificarte en el primer nivel de Mejora Continua White Belt 💯 \nEn esta certificación de 5 horas\, aprenderás a mejorar tus procesos para ser más eficiente. No importa el giro o tamaño de tu empresa\, lograrás aplicar diferentes herramientas para realizar proyectos de alto valor en cualquier área de tu organización. Al finalizar\, podrás obtener tu certificación White Belt\, vitalicia y con aval internacional✅ \n📆 Fechas: Martes 27 de mayo y 3 de junio del 2025\n⏱️ Horario: 19:00 a 21:30 hrs.\n💻 Modalidad: Virtual con instructor en vivo\n💲 Inversión: ¡Totalmente gratuita! \nSi te interesa participar\, regístrate en el siguiente link: ¡REGISTRATE AQUÍ!   \n¡Conviértete en un Agente de Cambio con White belt!
URL:https://canacintramazatlan.com.mx/eventos/certificacion-white-belt/
LOCATION:VIRTUAL
CATEGORIES:Capacitación
ATTACH;FMTTYPE=image/png:https://canacintramazatlan.com.mx/wp-content/uploads/2025/04/canacintra-mzt-adc.png
ORGANIZER;CN="Canacintra Mazatl%C3%A1n":MAILTO:informacion@canacintramazatlan.com.mx, servicios@canacintramazatlan.com.mx
END:VEVENT
END:VCALENDAR