BEGIN:VCALENDAR
VERSION:2.0
PRODID:-//Canacintra Mazatlán - ECPv6.15.20//NONSGML v1.0//EN
CALSCALE:GREGORIAN
METHOD:PUBLISH
X-WR-CALNAME:Canacintra Mazatlán
X-ORIGINAL-URL:https://canacintramazatlan.com.mx
X-WR-CALDESC:Eventos para Canacintra Mazatlán
REFRESH-INTERVAL;VALUE=DURATION:PT1H
X-Robots-Tag:noindex
X-PUBLISHED-TTL:PT1H
BEGIN:VTIMEZONE
TZID:America/Mazatlan
BEGIN:STANDARD
TZOFFSETFROM:-0700
TZOFFSETTO:-0700
TZNAME:MST
DTSTART:20240101T000000
END:STANDARD
END:VTIMEZONE
BEGIN:VEVENT
DTSTART;VALUE=DATE:20251110
DTEND;VALUE=DATE:20251111
DTSTAMP:20260422T081828
CREATED:20251103T191952Z
LAST-MODIFIED:20251103T191952Z
UID:4036-1762732800-1762819199@canacintramazatlan.com.mx
SUMMARY:MASTER CLASS GRATUITA: LAS NECESIDADES ACTUALES DEL ALMACÉN
DESCRIPTION:Con el objetivo de apoyar la actualización y capacitación de los profesionales en logística\, Canacintra Mazatlán\, en colaboración con Lean Six Sigma\, llevará a cabo una Master Class gratuita titulada «Las Necesidades Actuales del Almacén». \nEste evento abordará los desafíos y las oportunidades que enfrentan los almacenes en el contexto de la transformación digital y las nuevas exigencias del mercado. \nLos participantes tendrán la oportunidad de conocer estrategias clave para optimizar sus operaciones\, reducir costos y mejorar la eficiencia en los procesos logísticos\, así como un adelanto de los contenidos que se explorarán en la certificación en Administración de Almacenes y Control de Inventarios. \nDetalles del evento: \n\nFecha: Lunes 10 de noviembre\nHorario: 19:00 – 20:00 hrs (CDMX)\nModalidad: Virtual en vivo\n\nInscripciones: Los interesados pueden registrarse de manera gratuita a través del siguiente enlace: https://forms.gle/hHytyNKkCJtCX7Gv8 \nCupo limitado. \nEste evento es una excelente oportunidad para quienes buscan mejorar sus procesos logísticos y mantenerse al día con las mejores prácticas en la gestión de almacenes.
URL:https://canacintramazatlan.com.mx/eventos/master-class-gratuita-las-necesidades-actuales-del-almacen/
LOCATION:VIRTUAL
CATEGORIES:Capacitación
ATTACH;FMTTYPE=image/png:https://canacintramazatlan.com.mx/wp-content/uploads/2025/10/Diseno-sin-titulo-9.png
END:VEVENT
BEGIN:VEVENT
DTSTART;TZID=America/Mazatlan:20251124T190000
DTEND;TZID=America/Mazatlan:20251210T210000
DTSTAMP:20260422T081828
CREATED:20251103T195713Z
LAST-MODIFIED:20251119T211349Z
UID:4039-1764010800-1765400400@canacintramazatlan.com.mx
SUMMARY:CERTIFICACIÓN EN GESTIÓN DE ALMACENES Y CONTROL DE INVENTARIOS
DESCRIPTION:¡Mejora la eficiencia operativa de tu empresa y optimiza tus procesos logísticos! 📦 \n¿Te gustaría mejorar la eficiencia operativa de tu empresa\, optimizar tus procesos logísticos y reducir los costos de inventario? \nEsta certificación está diseñada para proporcionarte una formación completa\, con herramientas prácticas y actualizadas\, para dominar el diseño\, la gestión y la mejora continua en almacenes\, adaptadas a la realidad empresarial actual. \nDetalles del curso: \n\nDías: Lunes y Miércoles\nFechas: 24 y 26 de noviembre\, 01\, 03\, 08 y 10 de diciembre\nHorario: 19:00 – 22:00 hrs\nDuración: 18 horas\nModalidad: Virtual en vivo (todas las clases quedan grabadas)\n\nDirigido a:Profesionales y técnicos en logística\, administración\, ingeniería industrial\, comercio internacional\, personal operativo de almacenes\, supervisores\, analistas\, mandos medios y emprendedores que gestionan inventarios.También es ideal para estudiantes y recién egresados interesados en desarrollarse en el ámbito logístico. \nTemario general: \n\nIntroducción a la gestión de almacenes y diseño de la cadena de suministro.\nProcesos clave del almacén: recibo\, surtido\, picking\, auditoría y embarque.\nDiseño y layout del almacén\, cálculo de espacios y buenas prácticas.\nAdministración del inventario: análisis ABC\, Kanban\, EOQ\, rotación y métodos de gestión.\nIntroducción al forecasting y KPIs del almacén.\nTecnología y automatización: WMS\, trazabilidad\, robótica\, RFID y tendencias emergentes.\n\nObjetivo:Conviértete en un especialista capaz de diseñar almacenes eficientes\, controlar inventarios con precisión y liderar la mejora continua dentro de la cadena de suministro. \nInscripciones:Si estás interesado en registrarte\, da clic en el siguiente enlace: REGISTRO
URL:https://canacintramazatlan.com.mx/eventos/certificacion-en-gestion-de-almacenes-y-control-de-inventarios/
LOCATION:VIRTUAL
CATEGORIES:Capacitación
ATTACH;FMTTYPE=image/jpeg:https://canacintramazatlan.com.mx/wp-content/uploads/2025/10/WhatsApp-Image-2025-10-22-at-9.46.59-AM-1.jpeg
END:VEVENT
BEGIN:VEVENT
DTSTART;TZID=America/Mazatlan:20251126T090000
DTEND;TZID=America/Mazatlan:20251127T130000
DTSTAMP:20260422T081828
CREATED:20251119T210036Z
LAST-MODIFIED:20251121T170952Z
UID:4084-1764147600-1764248400@canacintramazatlan.com.mx
SUMMARY:CURSO VIRTUAL "CÓMO REGULIZAR TU EMPRESA ANTE LA STPS Y PROTECCIÓN CIVIL"
DESCRIPTION:Garantiza el correcto cumplimiento normativo de tu empresa y asegura la protección de tus colaboradores y operaciones. \nEste curso te brindará las herramientas necesarias para cumplir con los requerimientos de la Secretaría del Trabajo y Previsión Social\, así como de Protección Civil. \nObjetivo General: Capacitarte para cumplir correctamente con los requisitos legales ante la STPS y Protección Civil\, garantizando la seguridad\, legalidad y funcionamiento adecuado de tu empresa. \nObjetivos Específicos:\n✅Identificar las obligaciones normativas vigentes.\n✅Cumplir con las principales NOM-STPS aplicables.\n✅Conocer el proceso para elaborar tu Programa Interno de Protección Civil (PIPC).\n✅Prepararte para auditorías o inspecciones laborales.\n✅Desarrollar una estrategia de regularización y mejora continua.\n✅Fomentar una cultura empresarial basada en la seguridad y cumplimiento. \n📆 Miércoles 26 y jueves 27 de noviembre🕙 9:00 a 1:00 hrs 💻 Modalidad: Virtual en vivo🎯 Dirigido a: \n\nResponsables de seguridad industrial\nEncargados de RH y cumplimiento operativo\nEmpresarios y personal administrativo\n\n🚀 Fortalece la seguridad y evita sanciones con una correcta regularización. \n🔗Para más información y registro: 📩Servicios@canacintramazatlan.com.mx 📲6691540831 ☎️ 669 982 8304 y 669 982 8306
URL:https://canacintramazatlan.com.mx/eventos/como-regulizar-tu-empresa-ante-la-stps-y-proteccion-civil/
LOCATION:VIRTUAL
CATEGORIES:Capacitación
ATTACH;FMTTYPE=image/jpeg:https://canacintramazatlan.com.mx/wp-content/uploads/2025/11/WhatsApp-Image-2025-11-18-at-12.59.33-PM.jpeg
END:VEVENT
BEGIN:VEVENT
DTSTART;TZID=America/Mazatlan:20251126T090000
DTEND;TZID=America/Mazatlan:20251127T130000
DTSTAMP:20260422T081828
CREATED:20251119T210642Z
LAST-MODIFIED:20251125T183706Z
UID:4090-1764147600-1764248400@canacintramazatlan.com.mx
SUMMARY:CURSO VIRTUAL "MANEJO ADECUADO DE RECIPIENTES SUJETOS A PRESIÓN"
DESCRIPTION:Prevé riesgos en tus procesos productivos mediante la correcta inspección y operación de recipientes sujetos a presión.\nEste curso está enfocado en reforzar la seguridad industrial y el cumplimiento de normas aplicables en plantas y talleres. \nObjetivo General: Al término del curso\, el participante comprenderá las disposiciones de la NOM-020-STPS-2011\, conocerá los procedimientos seguros de trabajo y sus implicaciones en el funcionamiento y seguridad de los Recipientes Sujetos a Presión\, así como el procedimiento de Evaluación de la Conformidad para obtener la Autorización de Funcionamiento de dichos\nequipos. \n📆 Miércoles 26 y jueves 27 de noviembre 🕙 9:00 a 1:00 hrs  \nDuración: 8 horas (divididas en dos sesiones de 4 horas c/u)💻 Modalidad: Virtual en vivo 📄 Con validez oficial ante la STPS (DC-3) \n🎯 Dirigido a: \n\nSupervisores industriales y de mantenimiento\nÁreas de producción y operación\nEmpresas del sector manufacturero y de servicios técnicos\n\n🔗 Registro y más información: 📩Servicios@canacintramazatlan.com.mx 📲6691540831 ☎️ 669 982 8304 y 669 982 8306
URL:https://canacintramazatlan.com.mx/eventos/curso-virtual-manejo-adecuado-de-recipientes-sujetos-a-presion/
LOCATION:VIRTUAL
CATEGORIES:Capacitación
ATTACH;FMTTYPE=image/jpeg:https://canacintramazatlan.com.mx/wp-content/uploads/2025/11/WhatsApp-Image-2025-11-18-at-1.00.32-PM.jpeg
END:VEVENT
END:VCALENDAR