BEGIN:VCALENDAR
VERSION:2.0
PRODID:-//Canacintra Mazatlán - ECPv6.15.20//NONSGML v1.0//EN
CALSCALE:GREGORIAN
METHOD:PUBLISH
X-WR-CALNAME:Canacintra Mazatlán
X-ORIGINAL-URL:https://canacintramazatlan.com.mx
X-WR-CALDESC:Eventos para Canacintra Mazatlán
REFRESH-INTERVAL;VALUE=DURATION:PT1H
X-Robots-Tag:noindex
X-PUBLISHED-TTL:PT1H
BEGIN:VTIMEZONE
TZID:America/Mazatlan
BEGIN:STANDARD
TZOFFSETFROM:-0700
TZOFFSETTO:-0700
TZNAME:MST
DTSTART:20250101T000000
END:STANDARD
END:VTIMEZONE
BEGIN:VEVENT
DTSTART;TZID=America/Mazatlan:20260428T080000
DTEND;TZID=America/Mazatlan:20260507T170000
DTSTAMP:20260422T015154
CREATED:20260318T164956Z
LAST-MODIFIED:20260318T165042Z
UID:5136-1777363200-1778173200@canacintramazatlan.com.mx
SUMMARY:TALLER: ADMINISTRACIÓN Y CONTROL DE INVENTARIOS
DESCRIPTION:¿Tu inventario te controla… o lo controlas tú?\nEn un entorno empresarial cada vez más competitivo\, la correcta gestión de inventarios se ha convertido en un factor clave para la rentabilidad\, eficiencia operativa y crecimiento sostenido de las organizaciones. \nObjetivo del Taller:\nBrindar a los participantes herramientas prácticas y estratégicas para optimizar la administración de inventarios\, reducir costos operativos y fortalecer la competitividad empresarial mediante una gestión eficiente del almacén. \n🎯 ¿Por qué participar?\nUn inventario bien administrado no solo minimiza pérdidas\, sino que impulsa la productividad y mejora la toma de decisiones. Este taller está diseñado para transformar la gestión de inventarios en una ventaja competitiva real para tu empresa. \n📚 Contenido del Taller: Durante el desarrollo del programa\, los participantes adquirirán conocimientos en:\n\nRelación entre la empresa\, la cadena de suministro y los inventarios\nAdministración táctica y operativa\nAdministración estratégica de inventarios\nGestión eficiente de almacenes\nLiderazgo enfocado a la mejora continua\n\n📅 Detalles del Programa:\n\nDuración: 4 sesiones\nModalidad: 2 días por semana (martes y jueves)\nTotal: 11 horas de formación intensiva\n\nCalendario de sesiones: \nInicio: martes 28 de abril de 2026 \nSegunda sesión: jueves 30 de abril de 2026 \nTercera sesión: martes 5 de mayo de 2026 \nCuarta y última sesión: jueves 7 de mayo de 2026 \n👨‍🏫 Instructor: Ing. Marco Prieto. Especialista en administración y control de inventarios.\n📍 Sede: Instalaciones de CANACINTRA Mazatlán\n📌 Información e Inscripciones: \n📲 WhatsApp: 669 101 2943 📩 Correo electrónico: informacion@canacintramazatlan.com.mx \nCupo limitado.Te invitamos a asegurar tu lugar y fortalecer las capacidades operativas de tu empresa a través de este programa especializado.
URL:https://canacintramazatlan.com.mx/eventos/taller-administracion-y-control-de-inventarios/
LOCATION:Canacintra Mazatlán\, Av. Emilio Barragán #147 2do Piso\, Col. Centro\, Mazatlán\, Sinaloa\, 82000\, Mexico
CATEGORIES:Capacitación
ATTACH;FMTTYPE=image/jpeg:https://canacintramazatlan.com.mx/wp-content/uploads/2026/03/image-1-5.jpg
END:VEVENT
END:VCALENDAR