BEGIN:VCALENDAR
VERSION:2.0
PRODID:-//Canacintra Mazatlán - ECPv6.15.20//NONSGML v1.0//EN
CALSCALE:GREGORIAN
METHOD:PUBLISH
X-ORIGINAL-URL:https://canacintramazatlan.com.mx
X-WR-CALDESC:Eventos para Canacintra Mazatlán
REFRESH-INTERVAL;VALUE=DURATION:PT1H
X-Robots-Tag:noindex
X-PUBLISHED-TTL:PT1H
BEGIN:VTIMEZONE
TZID:America/Mazatlan
BEGIN:STANDARD
TZOFFSETFROM:-0700
TZOFFSETTO:-0700
TZNAME:MST
DTSTART:20240101T000000
END:STANDARD
END:VTIMEZONE
BEGIN:VEVENT
DTSTART;TZID=America/Mazatlan:20251124T190000
DTEND;TZID=America/Mazatlan:20251124T210000
DTSTAMP:20260421T124814
CREATED:20251107T164806Z
LAST-MODIFIED:20251107T164806Z
UID:4063-1764010800-1764018000@canacintramazatlan.com.mx
SUMMARY:¡GRAN OPORTUNIDAD PARA CERTIFICARTE: ELEVA TU PERFIL PERSONAL!
DESCRIPTION:🚀 Doble Certificación: ¡Impulsa tu Perfil al Máximo Nivel!\nCanacintra Mazatlán en colaboración con Lean Six Sigma te invitan a inscribirte en nuestro programa especializado. \nAl participar en el curso «Administración de Almacenes y Control de Inventarios»\, obtendrás de REGALO la Certificación Internacional Yellow Belt 🎓 \nEste programa estratégico no solo optimizará tus operaciones logísticas\, sino que te equipará con una metodología de mejora continua de reconocimiento mundial. \n¿Qué Lograrás con este Programa?\nEste curso combina dos pilares esenciales para la excelencia operativa: \n\nGestión Logística Avanzada: Domina las técnicas más efectivas para la optimización de almacenes y el control preciso de inventarios.\nMetodología Lean Six Sigma (Yellow Belt): Aprende a identificar\, medir y reducir desperdicios\, mejorando la eficiencia y generando resultados medibles en cualquier proceso.\n\nTu Inversión Incluye:\n\nDoble Certificación (Curso y Yellow Belt) y Medalla Digital CI.\nManuales\, formatos digitales y recursos prácticos.\nAcceso a las grabaciones de las sesiones.\nAcompañamiento personalizado de instructores expertos.\n\nImportante: La Certificación Yellow Belt es en modalidad de autoaprendizaje\, 100% online y a tu propio ritmo\, diseñada para adaptarse a tu agenda profesional. \nDetalles del Evento:\n\n\n\nDetalle\nInformación\n\n\n\n\n📅 Inicio\n24 de noviembre\n\n\n⏰ Horario\n19:00 – 22:00 hrs (CDMX)\n\n\n💻 Modalidad\nVirtual en vivo\n\n\n⏳ Duración\n18 horas\n\n\n\n  \nFortalece tu trayectoria profesional con dos certificaciones de alto valor. El cupo es limitado. \n🔗 Regístrate y asegura tu lugar aquí: https://forms.gle/sdBrgLPp3VoPkKQA6
URL:https://canacintramazatlan.com.mx/eventos/gran-oportunidad-para-certificarte-eleva-tu-perfil-personal/
LOCATION:VIRTUAL
CATEGORIES:Certificación
ATTACH;FMTTYPE=image/jpeg:https://canacintramazatlan.com.mx/wp-content/uploads/2025/11/WhatsApp-Image-2025-11-03-at-10.28.35-AM-1.jpeg
END:VEVENT
END:VCALENDAR