BEGIN:VCALENDAR
VERSION:2.0
PRODID:-//Canacintra Mazatlán - ECPv6.15.20//NONSGML v1.0//EN
CALSCALE:GREGORIAN
METHOD:PUBLISH
X-WR-CALNAME:Canacintra Mazatlán
X-ORIGINAL-URL:https://canacintramazatlan.com.mx
X-WR-CALDESC:Eventos para Canacintra Mazatlán
REFRESH-INTERVAL;VALUE=DURATION:PT1H
X-Robots-Tag:noindex
X-PUBLISHED-TTL:PT1H
BEGIN:VTIMEZONE
TZID:America/Mazatlan
BEGIN:STANDARD
TZOFFSETFROM:-0700
TZOFFSETTO:-0700
TZNAME:MST
DTSTART:20230101T000000
END:STANDARD
END:VTIMEZONE
BEGIN:VEVENT
DTSTART;TZID=America/Mazatlan:20241219T073000
DTEND;TZID=America/Mazatlan:20241219T103000
DTSTAMP:20260423T030907
CREATED:20241211T201257Z
LAST-MODIFIED:20241211T201257Z
UID:2374-1734593400-1734604200@canacintramazatlan.com.mx
SUMMARY:GRADUACIÓN DLHG GENERACIÓN XXXII
DESCRIPTION:Nos complace compartir una invitación abierta para un desayuno empresarial donde tendremos el gran honor de tener como oradora invitada a la Bióloga Esperanza Kasuga Expresidenta de Canacintra Mazatlán\, y quien recientemente recibió el «GALARDÓN NACIONAL A LA TRAYECTORIA DE MUJER INDUSTRIAL 2024» por CANACINTRA Sede Nacional\, dentro del programa de la Graduación de la Generación XXXII de nuestro Diplomado en Liderazgo modelo Harvard.Para mayor información\, consulta a nuestro asesor especialista:WhatsApp: 669 101 2943 y 669 149 0769informacion@canacintramazatlan.com.mxservicios@canacintramazatlan.com.mx
URL:https://canacintramazatlan.com.mx/eventos/graduacion-dlhg-generacion-xxxii/
LOCATION:SINALOA
CATEGORIES:Desayuno Empresarial
ATTACH;FMTTYPE=image/jpeg:https://canacintramazatlan.com.mx/wp-content/uploads/2024/12/GRAD.jpg
END:VEVENT
END:VCALENDAR