BEGIN:VCALENDAR
VERSION:2.0
PRODID:-//Canacintra Mazatlán - ECPv6.15.20//NONSGML v1.0//EN
CALSCALE:GREGORIAN
METHOD:PUBLISH
X-ORIGINAL-URL:https://canacintramazatlan.com.mx
X-WR-CALDESC:Eventos para Canacintra Mazatlán
REFRESH-INTERVAL;VALUE=DURATION:PT1H
X-Robots-Tag:noindex
X-PUBLISHED-TTL:PT1H
BEGIN:VTIMEZONE
TZID:America/Mazatlan
BEGIN:STANDARD
TZOFFSETFROM:-0700
TZOFFSETTO:-0700
TZNAME:MST
DTSTART:20240101T000000
END:STANDARD
END:VTIMEZONE
BEGIN:VEVENT
DTSTART;VALUE=DATE:20251211
DTEND;VALUE=DATE:20251212
DTSTAMP:20260420T045304
CREATED:20251016T173440Z
LAST-MODIFIED:20251016T175849Z
UID:3895-1765411200-1765497599@canacintramazatlan.com.mx
SUMMARY:INVITACIÓN ESPECIAL AL 80 ANIVERSARIO CANACINTRA MAZATLÁN
DESCRIPTION:Este 11 de diciembre\, Canacintra Mazatlán celebrará ocho décadas de historia\, compromiso y desarrollo industrial con una jornada especial que reunirá a empresarios\, líderes y aliados estratégicos del sector productivo. \nLa conmemoración del 80 Aniversario de CANACINTRA Mazatlán se llevará a cabo en el Hotel Dreams Estrella del Mar\, un escenario de gran nivel donde se realizarán dos eventos emblemáticos: \n\nDesayuno Empresarial\, espacio de diálogo e intercambio de experiencias.\nGala del Galardón CANACINTRA 2025\, donde se reconocerá la trayectoria y el esfuerzo de quienes impulsan la industria local.\n\nAprovecha la preventa de octubre\, disponible hasta el 31 de octubre\, para asegurar tu lugar con las mejores condiciones en paquetes\, hospedaje y patrocinios. \n📧 Informes y reservaciones:galardon@canacintramazatlan.com.mxservicios@canacintramazatlan.com.mx \n\n		\n	\n	\n	\n	\n		AQPpC67vzr_53T9UX0vmSzaaTAFZSYr5fCOwC6ZI9ah-SgG-OPGwOjW_RtUkE6abcAnQMWsy1eADzFiMYS8cQNajINtcGnrhXUBgHCc
URL:https://canacintramazatlan.com.mx/eventos/invitacion-especial-al-80-aniversario-canacintra-mazatlan/
LOCATION:DREAMS ESTRELLA DEL MAR\, Carretera Barrón – Isla Piedra Km 10 S/N\, MAZATLÁN\, SINALOA\, 82266\, Mexico
CATEGORIES:80 ANIVERSARIO,Desayuno Empresarial
ATTACH;FMTTYPE=image/png:https://canacintramazatlan.com.mx/wp-content/uploads/2025/10/IMAGEN-PAGINA-PRINCIPAL-1.png
ORGANIZER;CN="Canacintra Mazatl%C3%A1n":MAILTO:informacion@canacintramazatlan.com.mx, servicios@canacintramazatlan.com.mx
END:VEVENT
END:VCALENDAR