BEGIN:VCALENDAR
VERSION:2.0
PRODID:-//Canacintra Mazatlán - ECPv6.15.20//NONSGML v1.0//EN
CALSCALE:GREGORIAN
METHOD:PUBLISH
X-ORIGINAL-URL:https://canacintramazatlan.com.mx
X-WR-CALDESC:Eventos para Canacintra Mazatlán
REFRESH-INTERVAL;VALUE=DURATION:PT1H
X-Robots-Tag:noindex
X-PUBLISHED-TTL:PT1H
BEGIN:VTIMEZONE
TZID:America/Mazatlan
BEGIN:STANDARD
TZOFFSETFROM:-0700
TZOFFSETTO:-0700
TZNAME:MST
DTSTART:20240101T000000
END:STANDARD
END:VTIMEZONE
BEGIN:VEVENT
DTSTART;TZID=America/Mazatlan:20250521T150000
DTEND;TZID=America/Mazatlan:20250611T200000
DTSTAMP:20260420T090330
CREATED:20250409T164459Z
LAST-MODIFIED:20250409T164645Z
UID:3068-1747839600-1749672000@canacintramazatlan.com.mx
SUMMARY:DIPLOMADO EN NÓMINAS
DESCRIPTION:🎓 Diplomado en Gestión de Nóminas¡Impulsa tu desarrollo profesional con conocimientos actualizados y aplicables! \n📌 Objetivo:Adquiere una comprensión profunda de las relaciones laborales y domina la correcta aplicación de los conceptos de nómina conforme a la legislación vigente. \n👥 Dirigido a:Contadores de empresas\, contadores independientes\, auxiliares contables\, estudiantes\, profesionales de la administración y dueños de negocios. \n✨ Beneficios del diplomado:✅ Identificación y manejo efectivo de las relaciones laborales✅ Aplicación precisa de conceptos de nómina dentro del marco legal✅ Actualización en reformas fiscales y laborales vigentes \n🗓 Duración total: 25 horas📍 Distribuidas en 5 sesiones presenciales de 5 horas cada una \n📅 Fechas: \n1ª Sesión: Miércoles 21 de mayo \n2ª Sesión: Jueves 22 de mayo \n3ª Sesión: Miércoles 28 de mayo \n4ª Sesión: Miércoles 4 de junio \n5ª Sesión: Miércoles 11 de junio \n🕒 Horario: De 3:00 p.m. a 8:00 p.m.🏢 Sede: Emilio Barragán #147\, Col. Centro\, 2º piso (debajo de Bancomer)🏷 Modalidad: Presencial \n🎙 Instructor:Lic. René GutiérrezContador Público\, Máster en Impuestos\, especialista en Asesoría Fiscal y Coaching Empresarial. Avalado por la STPS. \n🎁 Incluye:📂 Material digital de apoyo🎤 Sesiones impartidas por experto📜 Diploma de participación☕ Coffee break \n🎉 Precio de preventa disponible hasta el 30 de abril¡Aprovecha esta oportunidad para actualizar tus conocimientos y destacar profesionalmente! \n📲 Informes e inscripción:Teléfono: 669 101 2943Correo: informacion@canacintramazatlan.com.mx
URL:https://canacintramazatlan.com.mx/eventos/diplomado-en-nominas/
LOCATION:Canacintra Mazatlán\, Av. Emilio Barragán #147 2do Piso\, Col. Centro\, Mazatlán\, Sinaloa\, 82000\, Mexico
CATEGORIES:DIPLOMADO
ATTACH;FMTTYPE=image/jpeg:https://canacintramazatlan.com.mx/wp-content/uploads/2025/04/tallerd.jpg
ORGANIZER;CN="Canacintra Mazatl%C3%A1n":MAILTO:informacion@canacintramazatlan.com.mx, servicios@canacintramazatlan.com.mx
END:VEVENT
BEGIN:VEVENT
DTSTART;TZID=America/Mazatlan:20250624T160000
DTEND;TZID=America/Mazatlan:20250624T190000
DTSTAMP:20260420T090330
CREATED:20250610T213519Z
LAST-MODIFIED:20250610T213519Z
UID:3467-1750780800-1750791600@canacintramazatlan.com.mx
SUMMARY:DIPLOMADO EN HABILIDADES FINANCIERAS
DESCRIPTION:Fortalece tu visión estratégica y toma decisiones financieras más inteligentes. Aprende a evaluar proyectos de inversión\, analizar estados financieros y construir un presupuesto maestro desde cero. \n🗓 Inicio: Martes 24 de junio⏰ Horario: 4:00 p.m. a 7:00 p.m.📚 Duración total: 18 horas | 6 sesiones \n👨‍🏫 Instructor: Mtro. Pedro Toledo\, Consultor Certificado💻 Modalidad: Virtual en vivo (requiere laptop) \n📌 Incluye:✔️ Material digital✔️ Diploma de participación✔️ Coffee break✔️ Opción de inscripción por módulo \n🎯 Ideal para: Gerentes\, contadores\, directores\, dueños de negocio y profesionales que deseen dominar herramientas financieras clave. \n📩 Informes e inscripción:📲 WhatsApp: 669 101 2943✉️ informacion@canacintramazatlan.com.mx \n📊 ¡Transforma tu forma de entender los números y toma mejores decisiones!
URL:https://canacintramazatlan.com.mx/eventos/diplomado-en-habilidades-financieras/
LOCATION:Canacintra Mazatlán\, Av. Emilio Barragán #147 2do Piso\, Col. Centro\, Mazatlán\, Sinaloa\, 82000\, Mexico
CATEGORIES:DIPLOMADO
ATTACH;FMTTYPE=image/jpeg:https://canacintramazatlan.com.mx/wp-content/uploads/2025/06/diplomado-en-habilidades-financieras.jpg
END:VEVENT
END:VCALENDAR