BEGIN:VCALENDAR
VERSION:2.0
PRODID:-//Canacintra Mazatlán - ECPv6.15.20//NONSGML v1.0//EN
CALSCALE:GREGORIAN
METHOD:PUBLISH
X-WR-CALNAME:Canacintra Mazatlán
X-ORIGINAL-URL:https://canacintramazatlan.com.mx
X-WR-CALDESC:Eventos para Canacintra Mazatlán
REFRESH-INTERVAL;VALUE=DURATION:PT1H
X-Robots-Tag:noindex
X-PUBLISHED-TTL:PT1H
BEGIN:VTIMEZONE
TZID:America/Mazatlan
BEGIN:STANDARD
TZOFFSETFROM:-0700
TZOFFSETTO:-0700
TZNAME:MST
DTSTART:20240101T000000
END:STANDARD
END:VTIMEZONE
BEGIN:VEVENT
DTSTART;TZID=America/Mazatlan:20250402T150000
DTEND;TZID=America/Mazatlan:20250403T190000
DTSTAMP:20260421T153749
CREATED:20250211T171409Z
LAST-MODIFIED:20250225T171937Z
UID:2696-1743606000-1743706800@canacintramazatlan.com.mx
SUMMARY:TALLER RECLUTAMIENTO CON INTELIGENCIA ARTIFICIAL
DESCRIPTION: ¿Estás enfrentando dificultades para encontrar el talento ideal para tu empresa? ¿Tu proceso de selección resulta lento o poco eficiente? \nLa Academia Empresarial CANACINTRA Mazatlán te invita a formar parte de un taller transformador: \nDomina el Reclutamiento Estratégico con las Nuevas Tendencias 🌐✨ \nDirigido a:🚀 Especialistas en Recursos Humanos🚀 Reclutadores y Headhunters🚀 Empresarios y Gerentes de Talento🚀 Profesionales interesados en optimizar su proceso de selección \n¿Qué aprenderás?Durante este taller\, descubrirás cómo transformar tu enfoque de reclutamiento: \n✅ Diseñar y programar tu propio Chatbot (reclutador virtual)✅ Atraer talento mediante estrategias innovadoras✅ Optimizar el proceso de reclutamiento con automatización✅ Implementar Inteligencia Artificial en la selección de personal✅ Crear un proceso de onboarding efectivo que fidelice a tus colaboradores \nDetalles del Curso:✔️ Duración: 8 horas totales\, distribuidas en 2 sesiones de 4 horas🗓 Fecha de inicio: Lunes 17 de marzo de 2025🗓 Fecha de finalización: Martes 18 de marzo de 2025⏰ Horario: 3:00 pm a 7:00 pm🗣 Modalidad: Presencial \nInstructor:👩🏻‍💼 Lic. Adriana Gamiño. Licenciada en Administración de Empresas\, con más de 13 años de experiencia en recursos humanos. Su especialidad radica en el marketing del reclutamiento y en la implementación de inteligencia artificial para optimizar la selección de personal. \nUbicación del Evento:🏢 Emilio Barragán #147\, Col. Centro\, 2do Piso (debajo del banco Bancomer) \n🎟 Precio EspecialSocios CANACINTRA y Grupos de 3 personas o más \nIncluye:🔸 Material de apoyo digital🔸 Exposición del instructor🔸 Diploma de participación \nPara más información\, no dudes en contactar a tu asesor de CANACINTRA Mazatlán:📲 WhatsApp: 669 101 2943 \n📩 Correo electrónico: informacion@canacintramazatlan.com.mx \n¡No pierdas esta oportunidad de llevar tu proceso de selección al siguiente nivel!
URL:https://canacintramazatlan.com.mx/eventos/taller-reclutamiento-con-inteligencia-artificial/
LOCATION:Canacintra Mazatlán\, Av. Emilio Barragán #147 2do Piso\, Col. Centro\, Mazatlán\, Sinaloa\, 82000\, Mexico
CATEGORIES:TALLER
ATTACH;FMTTYPE=image/jpeg:https://canacintramazatlan.com.mx/wp-content/uploads/2025/02/taller_in.jpg
END:VEVENT
BEGIN:VEVENT
DTSTART;TZID=America/Mazatlan:20250428T150000
DTEND;TZID=America/Mazatlan:20250429T193000
DTSTAMP:20260421T153749
CREATED:20250331T180111Z
LAST-MODIFIED:20250331T180628Z
UID:3043-1745852400-1745955000@canacintramazatlan.com.mx
SUMMARY:TALLER INTEGRACIÓN DE EQUIPOS DE TRABAJO
DESCRIPTION:🌟 ¡Juntos hacia el éxito! 🌟\nLa Academia Empresarial CANACINTRA Mazatlán te invita al taller:\n🔰 INTEGRACIÓN DE EQUIPOS DE TRABAJO 🔰\n📌 Dirigido a: Todo el personal de la empresa. \n🎯 Objetivo General\nEste taller está diseñado para fortalecer el ambiente laboral\, fomentando un clima de colaboración y motivación. A través de dinámicas efectivas\, impulsaremos la responsabilidad\, el compromiso\, la cooperación y el sentido de pertenencia en cada integrante del equipo. \n💡 Beneficios del curso\n✅ Un equipo alineado hacia un mismo objetivo.✅ Mejora en la comunicación y cooperación.✅ Mayor participación y compañerismo.✅ Desarrollo de un fuerte espíritu de equipo.✅ Conciencia sobre la importancia de cumplir metas puntualmente. \n📖 Temario\n✔️ ¿Por qué es esencial el trabajo en equipo?✔️ Características de un equipo eficaz e integrado.✔️ Elementos clave para trabajar en equipo: \n\nObjetivo común\nCooperación\nComunicación\nParticipación\nCompañerismo\n\n✔️ Desarrollo del espíritu de equipo y confianza. \n📌 Duración: 9 horas en total (2 sesiones de 4.5 horas).📅 Fechas: Lunes 28 y martes 29 de abril de 2025.🕒 Horario: 3:00 p.m. a 7:30 p.m.📍 Modalidad: Presencial.🏢 Ubicación: Emilio Barragán #147\, Col. Centro\, 2do piso (abajo de Bancomer). \n🎙 Instructor\n👨🏻‍💼 Lic. Óscar Fosados ArellanoLicenciado en Ciencias de la Comunicación por el ITESM\, con 35 años de experiencia en capacitación. Ha trabajado con más de 500 empresas y cuenta con un portafolio de más de 150 cursos\, asesorías y conferencias. \n🎟 Inversión especial\n💰 Precio preferencial para socios CANACINTRA y grupos de 3 o más personas. \n🎓 Incluye:\n📂 Material de apoyo digital.🎤 Exposición del instructor.📜 Diploma de participación.☕ Coffee break. \n📩 Más información y registro:📱 WhatsApp: 669 101 2943✉️ informacion@canacintramazatlan.com.mx\n¡No pierdas esta oportunidad de fortalecer tu equipo y llevar tu empresa al siguiente nivel! 🚀
URL:https://canacintramazatlan.com.mx/eventos/taller-integracion-de-equipos-de-trabajo/
LOCATION:Canacintra Mazatlán\, Av. Emilio Barragán #147 2do Piso\, Col. Centro\, Mazatlán\, Sinaloa\, 82000\, Mexico
CATEGORIES:TALLER
ATTACH;FMTTYPE=image/jpeg:https://canacintramazatlan.com.mx/wp-content/uploads/2025/03/486836650_977461137853193_99520938413002292_n.jpg
END:VEVENT
END:VCALENDAR