BEGIN:VCALENDAR
VERSION:2.0
PRODID:-//Canacintra Mazatlán - ECPv6.15.20//NONSGML v1.0//EN
CALSCALE:GREGORIAN
METHOD:PUBLISH
X-ORIGINAL-URL:https://canacintramazatlan.com.mx
X-WR-CALDESC:Eventos para Canacintra Mazatlán
REFRESH-INTERVAL;VALUE=DURATION:PT1H
X-Robots-Tag:noindex
X-PUBLISHED-TTL:PT1H
BEGIN:VTIMEZONE
TZID:America/Mazatlan
BEGIN:STANDARD
TZOFFSETFROM:-0700
TZOFFSETTO:-0700
TZNAME:MST
DTSTART:20240101T000000
END:STANDARD
END:VTIMEZONE
BEGIN:VEVENT
DTSTART;TZID=America/Mazatlan:20250627T090000
DTEND;TZID=America/Mazatlan:20250627T140000
DTSTAMP:20260421T124417
CREATED:20250623T165730Z
LAST-MODIFIED:20250623T211347Z
UID:3497-1751014800-1751032800@canacintramazatlan.com.mx
SUMMARY:TALLER INFANTIL FENÓMENOS NATURALES CTE
DESCRIPTION:Este viernes 27 de junio (CTE) te esperamos con un taller especial en honor al cuidado del planeta y la educación preventiva. Una experiencia educativa\, divertida y emocionalmente significativa para tus hijos. 👧👦💚 \n🔍 ¿Qué aprenderán?✅ ¿Qué hacer ante fenómenos naturales como tsunamis\, terremotos y huracanes?✅ ¿Cómo podemos estar preparados en familia?✅ Realización de experimentos interactivos para conocer estos fenómenos de forma segura y divertida.✅ Actividad especial sobre emociones: trabajaremos la ira\, el enojo y los berrinches a través de la metáfora del tornado\, conectando la naturaleza con el mundo interior de los niños. 🌪️🧠✅ Técnicas de respiración consciente para regular emociones con creatividad y conexión sensorial. 🧘✨ \n🎉 Además\, contaremos con la participación de una empresa invitada especial que compartirá su experiencia y aportes sobre prevención. \n👀 ¡Cupo limitado!📍 Aparta tu lugar desde ya y prepárate para un día lleno de aprendizaje\, juego y conciencia ambiental. \nInformes e inscripciones: 👇🏻\nServicios@canacintramazatlan.com.mx\n📲 669 3104924 y 6693277673
URL:https://canacintramazatlan.com.mx/eventos/%f0%9f%8c%8d%e2%9c%a8-celebremos-el-dia-mundial-del-medio-ambiente-con-un-taller-unico-para-ninos-%f0%9f%8c%aa%ef%b8%8f%f0%9f%8c%8a/
LOCATION:Canacintra Mazatlán\, Av. Emilio Barragán #147 2do Piso\, Col. Centro\, Mazatlán\, Sinaloa\, 82000\, Mexico
CATEGORIES:TALLER
ATTACH;FMTTYPE=image/jpeg:https://canacintramazatlan.com.mx/wp-content/uploads/2025/06/WhatsApp-Image-2025-06-19-at-10.53.33-AM-1.jpeg
ORGANIZER;CN="Canacintra Mazatl%C3%A1n":MAILTO:informacion@canacintramazatlan.com.mx, servicios@canacintramazatlan.com.mx
END:VEVENT
END:VCALENDAR