BEGIN:VCALENDAR
VERSION:2.0
PRODID:-//Canacintra Mazatlán - ECPv6.15.20//NONSGML v1.0//EN
CALSCALE:GREGORIAN
METHOD:PUBLISH
X-WR-CALNAME:Canacintra Mazatlán
X-ORIGINAL-URL:https://canacintramazatlan.com.mx
X-WR-CALDESC:Eventos para Canacintra Mazatlán
REFRESH-INTERVAL;VALUE=DURATION:PT1H
X-Robots-Tag:noindex
X-PUBLISHED-TTL:PT1H
BEGIN:VTIMEZONE
TZID:America/Mazatlan
BEGIN:STANDARD
TZOFFSETFROM:-0700
TZOFFSETTO:-0700
TZNAME:MST
DTSTART:20240101T000000
END:STANDARD
END:VTIMEZONE
BEGIN:VEVENT
DTSTART;TZID=America/Mazatlan:20251027T150000
DTEND;TZID=America/Mazatlan:20251028T190000
DTSTAMP:20260420T085831
CREATED:20251002T172225Z
LAST-MODIFIED:20251002T172226Z
UID:3856-1761577200-1761678000@canacintramazatlan.com.mx
SUMMARY:CURSO DE EXCEL INTERMEDIO A AVANZADO
DESCRIPTION:¿Quieres destacar en tu trabajo y tomar decisiones con base en datos sólidos?Este taller está diseñado para que domines herramientas que te convertirán en el referente de Excel dentro de tu equipo. \n Aprende a crear reportes automatizados\, dashboards visuales y análisis de datos que impactan. \n¿A quién está dirigido?\n💼 Auxiliares contables💼 Administrativos y personal de finanzas💼 Profesionistas interesados en profundizar en MS Excel💼 Personal operativo en inventarios\, compras o gestión de proyectos💼 Emprendedores \n Curso enfocado a aprovechar el manejo e interpretación de la información que se genera en cualquier empresa\, aplicando aspectos como: \n✅ Tablas y gráficos dinámicos✅ Fórmulas y funciones avanzadas✅ Creación de cuadros de mando✅ Uso de macros✅ Formatos condicionales anidados \nDetalles del curso:\n📅 Fecha: Lunes 27 y martes 28 de octubre de 2025🕒 Horario: 3:00 p.m. – 7:00 p.m.👥 Modalidad: Presencial👨‍💼 Instructor: M. en C. Sergio Ortega – Consultor especialista en Innovación y Transformación Disruptiva🏢 Sede: CANACINTRA Mazatlán\, Av. Emilio Barragán #147\, Col. Centro\, 2do Piso (debajo de Bancomer\, cerca de Jumapam) \nInscripciones: 📲 Teléfono: 669 101 2943 📩 Correo: informacion@canacintramazatlan.com.mx\n🎯 ¡Cupo limitado! No dejes que Excel te gane… ¡haz que trabaje para ti!
URL:https://canacintramazatlan.com.mx/eventos/curso-de-excel-intermedio-a-avanzado/
LOCATION:Canacintra Mazatlán\, Av. Emilio Barragán #147 2do Piso\, Col. Centro\, Mazatlán\, Sinaloa\, 82000\, Mexico
CATEGORIES:Capacitación
ATTACH;FMTTYPE=image/jpeg:https://canacintramazatlan.com.mx/wp-content/uploads/2025/10/WhatsApp-Image-2025-10-01-at-15.08.05.jpeg
END:VEVENT
END:VCALENDAR