BEGIN:VCALENDAR
VERSION:2.0
PRODID:-//Canacintra Mazatlán - ECPv6.15.20//NONSGML v1.0//EN
CALSCALE:GREGORIAN
METHOD:PUBLISH
X-WR-CALNAME:Canacintra Mazatlán
X-ORIGINAL-URL:https://canacintramazatlan.com.mx
X-WR-CALDESC:Eventos para Canacintra Mazatlán
REFRESH-INTERVAL;VALUE=DURATION:PT1H
X-Robots-Tag:noindex
X-PUBLISHED-TTL:PT1H
BEGIN:VTIMEZONE
TZID:America/Mazatlan
BEGIN:STANDARD
TZOFFSETFROM:-0700
TZOFFSETTO:-0700
TZNAME:MST
DTSTART:20250101T000000
END:STANDARD
END:VTIMEZONE
BEGIN:VEVENT
DTSTART;TZID=America/Mazatlan:20260310T180000
DTEND;TZID=America/Mazatlan:20260325T190000
DTSTAMP:20260421T064331
CREATED:20260305T220006Z
LAST-MODIFIED:20260305T220410Z
UID:4982-1773165600-1774465200@canacintramazatlan.com.mx
SUMMARY:MASTERCLASS Y CERTIFICACIONES LEAN SIX SIGMA 2026
DESCRIPTION:Como parte de la Ruta de Formación Ejecutiva 2026\, se presenta una nueva oportunidad de capacitación dirigida a empresarios\, directivos y profesionales interesados en fortalecer sus capacidades en mejora continua\, análisis estratégico y toma de decisiones basadas en datos. Este programa de formación es desarrollado por International Lean Six Sigma en colaboración con CANACINTRA\, con el objetivo de impulsar el desarrollo de talento especializado capaz de mejorar procesos\, optimizar recursos y generar resultados medibles dentro de las organizaciones. \nA través de una estructura progresiva de certificaciones y sesiones ejecutivas\, los participantes podrán adquirir herramientas prácticas que contribuyen al fortalecimiento de la eficiencia operativa y la competitividad empresarial. \nCertificaciones Lean Six Sigma Belts \nEl programa Lean Six Sigma Belts está diseñado para formar profesionales con conocimientos y habilidades para identificar oportunidades de mejora\, resolver problemas de manera estructurada y liderar proyectos orientados a resultados. \n\nYellow Belt (20 horas)Esta certificación proporciona una introducción a los principios Lean y a las metodologías básicas de solución de problemas. Los participantes desarrollan habilidades para colaborar en iniciativas de mejora continua y comprender los fundamentos de la optimización de procesos dentro de las organizaciones.\nGreen Belt (30 horas)La certificación Green Belt está orientada a la formación de especialistas capaces de desarrollar proyectos Six Sigma utilizando herramientas de análisis de datos y estadística. Los participantes fortalecen su capacidad para analizar información\, identificar causas raíz y proponer soluciones basadas en evidencia.\nBlack Belt (20 horas)Este nivel está dirigido a profesionales que buscan liderar proyectos estratégicos de mejora dentro de sus organizaciones. Los participantes desarrollan competencias para priorizar iniciativas alineadas con los objetivos de dirección\, generar ahorros y promover mejoras con impacto directo en el cliente y en los resultados del negocio.\n\nLas empresas afiliadas a CANACINTRA cuentan con precio preferencial para participar en estas certificaciones. \nMasterclass ejecutivas \nComo parte complementaria de esta ruta de aprendizaje\, se llevarán a cabo masterclass virtuales con instructor en vivo\, dirigidas a compartir herramientas prácticas y conocimientos aplicables a distintos ámbitos de la gestión empresarial. \nMasterclass Risk Management FundamentalsFecha: 10 de marzoHorario: 18:00 a 19:00 horasModalidad: sesión virtual con instructor en vivo. \nEsta sesión permitirá conocer los fundamentos de la gestión de riesgos y su aplicación dentro de las organizaciones\, abordando la identificación\, análisis y tratamiento de riesgos como elementos clave para fortalecer la toma de decisiones. \nMasterclass Magia en el Servicio al ClienteFecha: 12 de marzoHorario: 18:00 a 19:00 horasModalidad: sesión virtual con instructor en vivo. \nEsta sesión abordará la importancia de la cultura de servicio y la experiencia del cliente como factores clave para la creación de valor y la diferenciación empresarial. \nRegistro \nLas personas interesadas en participar en las masterclass o en obtener información sobre el programa Lean Six Sigma Belts pueden registrarse a través del siguiente enlace: \nhttps://forms.gle/sdBrgLPp3VoPkKQA6 \nPara más Informes: \n📞 Teléfono: 6691540831 o 6699828306📧 Correo electrónico: Servicios@canacintramazatlan.com.mx
URL:https://canacintramazatlan.com.mx/eventos/masterclass-y-certificaciones-lean-six-sigma-2026/
LOCATION:VIRTUAL
ATTACH;FMTTYPE=image/jpeg:https://canacintramazatlan.com.mx/wp-content/uploads/2026/03/WhatsApp-Image-2026-02-17-at-2.46.17-PM.jpeg
END:VEVENT
END:VCALENDAR