BEGIN:VCALENDAR
VERSION:2.0
PRODID:-//Canacintra Mazatlán - ECPv6.15.20//NONSGML v1.0//EN
CALSCALE:GREGORIAN
METHOD:PUBLISH
X-ORIGINAL-URL:https://canacintramazatlan.com.mx
X-WR-CALDESC:Eventos para Canacintra Mazatlán
REFRESH-INTERVAL;VALUE=DURATION:PT1H
X-Robots-Tag:noindex
X-PUBLISHED-TTL:PT1H
BEGIN:VTIMEZONE
TZID:America/Mazatlan
BEGIN:STANDARD
TZOFFSETFROM:-0700
TZOFFSETTO:-0700
TZNAME:MST
DTSTART:20240101T000000
END:STANDARD
END:VTIMEZONE
BEGIN:VEVENT
DTSTART;TZID=America/Mazatlan:20251128T090000
DTEND;TZID=America/Mazatlan:20251128T140000
DTSTAMP:20260420T022807
CREATED:20251126T183443Z
LAST-MODIFIED:20251126T184258Z
UID:4151-1764320400-1764338400@canacintramazatlan.com.mx
SUMMARY:TALLER EDUCATIVO "MI BOSQUE SEGURO"
DESCRIPTION:Taller Educativo “Mi Bosque Seguro” Una experiencia formativa diseñada especialmente para niñas y niños de 4 a 13 años\, donde aprenderán sobre autocuidado\, prevención del abuso sexual y expresión emocional\, de manera segura\, respetuosa y acorde a su etapa de desarrollo. \nA través de actividades temáticas de otoño\, arte\, pintura\, dinámicas sensoriales y herbolaria\, se fomenta el fortalecimiento emocional\, la comunicación asertiva y el respeto por sí mismos y por los demás. \nEste espacio busca sembrar raíces de bienestar y protección en la infancia\, promoviendo entornos seguros y herramientas para su crecimiento integral. \nInicio: viernes 28 de noviembre 🕛 9:00 am – 2:00 pm 📍Instalaciones Canacintra Mazatlán  \nRegistro: 📲 6693277673 📩Servicios@canacintramazatlan.com.mx
URL:https://canacintramazatlan.com.mx/eventos/talller-educativo-mi-bosque-seguro/
LOCATION:Canacintra Mazatlán\, Av. Emilio Barragán #147 2do Piso\, Col. Centro\, Mazatlán\, Sinaloa\, 82000\, Mexico
CATEGORIES:TALLER
ATTACH;FMTTYPE=image/jpeg:https://canacintramazatlan.com.mx/wp-content/uploads/2025/11/WhatsApp-Image-2025-11-22-at-2.47.25-PM.jpeg
ORGANIZER;CN="Canacintra Mazatl%C3%A1n":MAILTO:informacion@canacintramazatlan.com.mx, servicios@canacintramazatlan.com.mx
END:VEVENT
END:VCALENDAR