BEGIN:VCALENDAR
VERSION:2.0
PRODID:-//Canacintra Mazatlán - ECPv6.15.20//NONSGML v1.0//EN
CALSCALE:GREGORIAN
METHOD:PUBLISH
X-WR-CALNAME:Canacintra Mazatlán
X-ORIGINAL-URL:https://canacintramazatlan.com.mx
X-WR-CALDESC:Eventos para Canacintra Mazatlán
REFRESH-INTERVAL;VALUE=DURATION:PT1H
X-Robots-Tag:noindex
X-PUBLISHED-TTL:PT1H
BEGIN:VTIMEZONE
TZID:America/Mazatlan
BEGIN:STANDARD
TZOFFSETFROM:-0700
TZOFFSETTO:-0700
TZNAME:MST
DTSTART:20230101T000000
END:STANDARD
END:VTIMEZONE
BEGIN:VEVENT
DTSTART;TZID=America/Mazatlan:20241022T100000
DTEND;TZID=America/Mazatlan:20241105T140000
DTSTAMP:20260421T105914
CREATED:20241007T204738Z
LAST-MODIFIED:20241007T204739Z
UID:2286-1729591200-1730815200@canacintramazatlan.com.mx
SUMMARY:TALLER BUENAS PRÁCTICAS DE MANUFACTURA
DESCRIPTION:Participa en el Curso en Línea: Buenas Prácticas de Manufactura\nOrganizado por: Canacintra Mazatlán en colaboración con Canacintra Sede Nacional \n\n\n¿A quién va dirigido? \nSi te dedicas a la producción de alimentos\, vendes productos como salsas\, pasteles\, postres\, tostadas\, botanas\, agua embotellada\, dulces\, gestionas proyectos\, formas parte del equipo HACCP\, o eres responsable de sanidad y POES\, este curso es para ti. \n¿Por qué es importante? \nLos consumidores demandan cada vez más estándares de calidad. Las Buenas Prácticas de Manufactura (BPM) no solo ayudan a reducir costos de producción\, sino que también maximizan la utilidad de venta\, garantizando al mismo tiempo la calidad e inocuidad de los productos para el consumo humano. \n\nInicia: Martes 22 octubre | 29 octubre | 5 noviembre\nModalidad: Online\nIncluye: Diploma de participación y constancia de competencias laborales DC3\n\n\nInformación y Registro: \n📲 Teléfono: 669 101 2943 \n📩 Correo Electrónico: informacion@canacintramazatlan.com.mx
URL:https://canacintramazatlan.com.mx/eventos/taller-buenas-practicas-de-manufactura/
LOCATION:Sinaloa
CATEGORIES:TALLER
ATTACH;FMTTYPE=image/jpeg:https://canacintramazatlan.com.mx/wp-content/uploads/2024/10/TALLER-OC.jpg
ORGANIZER;CN="Canacintra Mazatl%C3%A1n":MAILTO:informacion@canacintramazatlan.com.mx, servicios@canacintramazatlan.com.mx
END:VEVENT
BEGIN:VEVENT
DTSTART;TZID=America/Mazatlan:20241121T073000
DTEND;TZID=America/Mazatlan:20241121T100000
DTSTAMP:20260421T105914
CREATED:20241114T171841Z
LAST-MODIFIED:20241114T173131Z
UID:2330-1732174200-1732183200@canacintramazatlan.com.mx
SUMMARY:EMPRENDIENDO CON EL MEDIO AMBIENTE
DESCRIPTION:Te invitamos este próximo 21 de noviembre a un desayuno empresarial. Será una excelente oportunidad para explorar un enfoque innovador en los negocios\, ¡y todo con un enfoque hacia la recuperación del medio ambiente! 🌱🌍 \n\nLa cita será en el Hotel DoubleTree by Hilton Mazatlán en punto de las 7:30 am donde disfrutaremos un nutritivo momento de conocimientos\, alimentos y networking estilo Canacintra Mazatlán junto con nuestros amigos de Conselva Costas y Comunidades\, A.C. y empresarios especialistas.\n\n\n\n\n Además\, tanto el costo de los boletos como el paquete de patrocinadores son 100% reembolsables en el Monedero Electrónico de Canacintra (MEC)\, ¡lo que podrás usar en capacitaciones o reservas de auditorios! \nDetalles del evento: \nBoleto Individual: $150 MXN\nIncluye: Desayuno + 100% reembolsable en MEC. \nPaquete Patrocinador: $2\,500 MXN\nIncluye: Presencia de marca + 2 boletos para el desayuno + 100% reembolsable en MEC. \n🚨 Cupo limitado.🚨 \nInteresados\, comunicarse a los datos de contacto para asegurar su lugar. ¡Esperamos verte allí!
URL:https://canacintramazatlan.com.mx/eventos/emprendiendo-con-el-medio-ambiente/
LOCATION:Hotel DoubleTree by hilton\, v Camaron Sabalo 905\, El Encanto\, Mazatlan\, 82148\, Mexico\, MAZATLÁN
CATEGORIES:Desayuno Empresarial
ATTACH;FMTTYPE=image/jpeg:https://canacintramazatlan.com.mx/wp-content/uploads/2024/11/consel.jpg
ORGANIZER;CN="Canacintra Mazatl%C3%A1n":MAILTO:informacion@canacintramazatlan.com.mx, servicios@canacintramazatlan.com.mx
END:VEVENT
END:VCALENDAR