BEGIN:VCALENDAR
VERSION:2.0
PRODID:-//Canacintra Mazatlán - ECPv6.15.20//NONSGML v1.0//EN
CALSCALE:GREGORIAN
METHOD:PUBLISH
X-WR-CALNAME:Canacintra Mazatlán
X-ORIGINAL-URL:https://canacintramazatlan.com.mx
X-WR-CALDESC:Eventos para Canacintra Mazatlán
REFRESH-INTERVAL;VALUE=DURATION:PT1H
X-Robots-Tag:noindex
X-PUBLISHED-TTL:PT1H
BEGIN:VTIMEZONE
TZID:America/Mazatlan
BEGIN:STANDARD
TZOFFSETFROM:-0700
TZOFFSETTO:-0700
TZNAME:MST
DTSTART:20240101T000000
END:STANDARD
END:VTIMEZONE
BEGIN:VEVENT
DTSTART;TZID=America/Mazatlan:20250108T150000
DTEND;TZID=America/Mazatlan:20250108T200000
DTSTAMP:20260421T081242
CREATED:20250106T205208Z
LAST-MODIFIED:20250106T205209Z
UID:2396-1736348400-1736366400@canacintramazatlan.com.mx
SUMMARY:TALLER REFORMAS FISCALES 2025
DESCRIPTION:¡No se pierda nuestro próximo taller de la Academia Empresarial CANACINTRA! \n🧑🏻‍⚖️ «Reformas Fiscales 2025» 🚀 \nImparte:\nContador Público René Ulises Gutiérrez Luna\, Director General de Grupo Codi\,\nMáster en Impuestos avalado por la Secretaría del Trabajo y Previsión Social\,\nEspecialista en Asesoría Fiscal y Coaching Empresarial. \n\n📌 Dirigido a: \n\nContadores de Empresas\nContadores Independientes\nAuxiliares Contables\nProfesionales de Administración\nEstudiantes\n\n🗓️ Detalles del Taller: \n\nDuración: Una sesión de 5 horas\nFecha: Miércoles\, 8 de enero de 2025\nHorario: 3:00 p.m. a 8:00 p.m.\nModalidad: Presencial\nLugar:\nInstalaciones de CANACINTRA Mazatlán\,\nEmilio Barragán #147\, Col. Centro\, cerca de Jumapam.\n\n\n🎯 Temario Principal: \n\n🟣 Nuevas facultades de comprobación\n🟡 Nuevos criterios de fiscalización\n🟤 Ley de Ingresos de la Federación\n🔵 Igualdad sustantiva en las empresas\n⚫ Cambios en el Régimen Simplificado de Confianza para Personas Físicas\n🟠 Declaración Anual 2024: ¿Quiénes están obligados y quiénes están exentos?\n🟣 Principio de realidad laboral\n🔵 Reformas al Código Fiscal de la Federación\n\nPuntos clave sobre el CFDI:\n✔️ Cambios en restricción de CFDI\n✔️ Control y cancelación de CFDI\n✔️ Uso de herramientas tecnológicas en verificaciones fiscales \nSanciones y Procedimientos Fiscales: \n\nDeclaraciones falsas y sanciones penales\nGarantía del interés fiscal\nRevisión o reconsideración administrativa\n\n\n📞 Para más información y registro: \n\nTeléfono: 669 101 2943\, 669 982 8304 y 06\nCorreo: informacion@canacintramazatlan.com.mx\n\n¡No pierda la oportunidad de mantenerse actualizado y fortalecer sus conocimientos fiscales!
URL:https://canacintramazatlan.com.mx/eventos/taller-reformas-fiscales-2025-2/
LOCATION:Canacintra Mazatlán\, Av. Emilio Barragán #147 2do Piso\, Col. Centro\, Mazatlán\, Sinaloa\, 82000\, Mexico
CATEGORIES:TALLER
ATTACH;FMTTYPE=image/jpeg:https://canacintramazatlan.com.mx/wp-content/uploads/2024/12/TALLER-FISCAL.jpg
END:VEVENT
END:VCALENDAR