BEGIN:VCALENDAR
VERSION:2.0
PRODID:-//Canacintra Mazatlán - ECPv6.15.20//NONSGML v1.0//EN
CALSCALE:GREGORIAN
METHOD:PUBLISH
X-ORIGINAL-URL:https://canacintramazatlan.com.mx
X-WR-CALDESC:Eventos para Canacintra Mazatlán
REFRESH-INTERVAL;VALUE=DURATION:PT1H
X-Robots-Tag:noindex
X-PUBLISHED-TTL:PT1H
BEGIN:VTIMEZONE
TZID:America/Mazatlan
BEGIN:STANDARD
TZOFFSETFROM:-0700
TZOFFSETTO:-0700
TZNAME:MST
DTSTART:20240101T000000
END:STANDARD
END:VTIMEZONE
BEGIN:VEVENT
DTSTART;TZID=America/Mazatlan:20250215T090000
DTEND;TZID=America/Mazatlan:20250215T140000
DTSTAMP:20260421T064127
CREATED:20250113T215359Z
LAST-MODIFIED:20250113T215400Z
UID:2453-1739610000-1739628000@canacintramazatlan.com.mx
SUMMARY:DIPLOMADO EN LIDERAZGO CON HABILIDADES GERENCIALES
DESCRIPTION:¡Eleva tu Liderazgo al Siguiente Nivel! \nTe invitamos a formar parte de la Nueva Generación de Líderes en Mazatlán. Nuestro prestigioso Diplomado en Liderazgo con Habilidades Gerenciales está diseñado para equiparte con las herramientas y conocimientos necesarios para alcanzar el éxito en tu carrera profesional. \n¿Por qué unirte a nosotros? \n\nExperiencia Presencial Única: Aprende de la mano de expertos y conecta con otros líderes ambiciosos en un entorno de aprendizaje colaborativo.\nDesarrollo Integral: Potencia tus habilidades de liderazgo\, gestión de equipos\, comunicación efectiva y toma de decisiones estratégicas.\nContenido de Alto Impacto: Nuestro programa\, impartido por el Dr. Carlos Ríos\, te brindará las últimas tendencias y mejores prácticas en liderazgo empresarial.\nRed de Contactos: Expande tu red profesional y establece relaciones duraderas con otros líderes de la región.\n\nDetalles del Diplomado: \n\nFecha de Inicio: Sábado 15 de febrero de 2025\nHorario: 9:00 a.m. a 2:00 p.m.\nModalidad: Presencial\nConsultor Senior: Dr. Carlos Ríos\nInversión: Aprovecha nuestro precio de preventa hasta el 17 de enero y disfruta de atractivos planes de pago.\n\n¡Incluye! \n\nManuales especializados\nDelicioso platillo de graduación\nCertificado de participación\nCoffe breaks durante las sesiones\n\n¡No pierdas esta oportunidad de transformar tu liderazgo! \nInscríbete ahora y sé parte de la comunidad Canacintra Mazatlán. \nContacta a tu asesor: \n\nWhatsApp: 669 101 2943\nCorreo electrónico: informacion@canacintramazatlan.com.mx
URL:https://canacintramazatlan.com.mx/eventos/diplomado-en-liderazgo-con-habilidades-gerenciales/
LOCATION:Canacintra Mazatlán\, Av. Emilio Barragán #147 2do Piso\, Col. Centro\, Mazatlán\, Sinaloa\, 82000\, Mexico
CATEGORIES:DIPLOMADO
ATTACH;FMTTYPE=image/jpeg:https://canacintramazatlan.com.mx/wp-content/uploads/2025/01/DIP.jpg
END:VEVENT
BEGIN:VEVENT
DTSTART;TZID=America/Mazatlan:20250217T160000
DTEND;TZID=America/Mazatlan:20250226T183000
DTSTAMP:20260421T064127
CREATED:20250128T191604Z
LAST-MODIFIED:20250128T191605Z
UID:2514-1739808000-1740594600@canacintramazatlan.com.mx
SUMMARY:TALLER DESARROLLANDO TECNICAS Y HABILIDADES DE VENTAS INTENSIVO
DESCRIPTION:¡Conviértete en un experto en ventas efectivas!\n\n\n\n\n\n\n\n\n\n\nLa Academia Empresarial Canacintra te invita a participar en el curso «Desarrollando Técnicas y Habilidades de Ventas Intensivo»\, dirigido a vendedores\, personal del área comercial y negociadores. Conoce a fondo las herramientas y estrategias que transformarán tus habilidades de venta. \nDetalles del curso: \n\nDuración: 10 horas distribuidas en 4 sesiones de 2.5 horas\nFechas:\n\nLunes 17 de febrero de 2025\nMiércoles 19 de febrero de 2025\nLunes 24 de febrero de 2025\nMiércoles 26 de febrero de 2025\n\n\nHorario: 4:00 p.m. a 6:30 p.m.\nModalidad: Presencial\nUbicación: Emilio Barragán #147\, Col. Centro\, 2do Piso\, Mazatlán\nImparte: MTRO. Luis Raúl Billy\, experto con más de 10 años de experiencia en ventas.\n\nContenido del curso: \n\nMódulo 1: Fundamentos de la venta efectiva (venta consultiva\, psicología del cliente).\nMódulo 2: Segmentación y prospección (técnicas y estrategias para identificar clientes rentables).\nMódulo 3: Comunicación persuasiva y escucha activa (principios de persuasión y manejo de objeciones).\nMódulo 4: El proceso de ventas (etapas\, cierre de ventas y fidelización).\nMódulo 5: Herramientas digitales (uso de CRM y KPIs en ventas).\nMódulo 6: Desarrollo personal y profesional (soft skills\, productividad y gestión del tiempo).\n\nBeneficios adicionales: \n\n1 asesoría gratuita por empresa al finalizar el curso\n\nPara más información y registro\, contacta a tu asesor de Canacintra Mazatlán: \n\nWHATSAPP: 669 101 2943\nOFICINA: 6699828304 y 06\nCORREO: informacion@canacintramazatlan.com.mx 
URL:https://canacintramazatlan.com.mx/eventos/taller-desarrollando-tecnicas-y-habilidades-de-ventas-intensivo/
LOCATION:Canacintra Mazatlán\, Av. Emilio Barragán #147 2do Piso\, Col. Centro\, Mazatlán\, Sinaloa\, 82000\, Mexico
CATEGORIES:TALLER
ATTACH;FMTTYPE=image/jpeg:https://canacintramazatlan.com.mx/wp-content/uploads/2025/01/taller-luisbilly.jpg
ORGANIZER;CN="Canacintra Mazatl%C3%A1n":MAILTO:informacion@canacintramazatlan.com.mx, servicios@canacintramazatlan.com.mx
END:VEVENT
BEGIN:VEVENT
DTSTART;TZID=America/Mazatlan:20250228T090000
DTEND;TZID=America/Mazatlan:20250228T140000
DTSTAMP:20260421T064127
CREATED:20250224T220059Z
LAST-MODIFIED:20250224T220100Z
UID:2784-1740733200-1740751200@canacintramazatlan.com.mx
SUMMARY:TALLER INFANTIL HÁBITOS SALUDABLES
DESCRIPTION:✨ Taller «Hábitos Saludables» ✨ \nEn este taller especial\, los niños aprenderán sobre la importancia de las emociones y la salud a través de actividades interactivas y divertidas. La psicoterapeuta infantil Zulema Elizabeth guiará a los pequeños en la comprensión de sus emociones con el cuento «Tengo un nudo en mi barriga»\, además de dinámicas enfocadas en psicoterapia infantil. \nTambién contaremos con la participación especial de Cruz Roja Mexicana\, quienes realizarán actividades educativas sobre primeros auxilios\, enseñando a los niños habilidades básicas para el autocuidado y la prevención de accidentes. \n🎭🎨 Además\, los niños podrán expresar su creatividad con actividades de pintura y teatro\, fomentando el aprendizaje de manera lúdica y divertida. \n📅 Fecha: Viernes 28 de febrero⏰ Horario: 9:00 AM – 2:00 PM📍 Ubicación: Avenida Emilio Barragán 147\, 82000 Mazatlán\, Sinaloa👧🧒 Edades: 4 – 13 años💰 Inversión: $300 \n📞 Más información y reservas: 6693277673 \n¡Un taller que combina aprendizaje\, salud y diversión para los más pequeños! 💖
URL:https://canacintramazatlan.com.mx/eventos/taller-infantil-habitos-saludables/
LOCATION:Canacintra Mazatlán\, Av. Emilio Barragán #147 2do Piso\, Col. Centro\, Mazatlán\, Sinaloa\, 82000\, Mexico
CATEGORIES:TALLER
ATTACH;FMTTYPE=image/jpeg:https://canacintramazatlan.com.mx/wp-content/uploads/2025/02/WhatsApp-Image-2025-02-24-at-1.46.27-PM-1.jpeg
ORGANIZER;CN="Canacintra Mazatl%C3%A1n":MAILTO:informacion@canacintramazatlan.com.mx, servicios@canacintramazatlan.com.mx
END:VEVENT
END:VCALENDAR