BEGIN:VCALENDAR
VERSION:2.0
PRODID:-//Canacintra Mazatlán - ECPv6.15.20//NONSGML v1.0//EN
CALSCALE:GREGORIAN
METHOD:PUBLISH
X-ORIGINAL-URL:https://canacintramazatlan.com.mx
X-WR-CALDESC:Eventos para Canacintra Mazatlán
REFRESH-INTERVAL;VALUE=DURATION:PT1H
X-Robots-Tag:noindex
X-PUBLISHED-TTL:PT1H
BEGIN:VTIMEZONE
TZID:America/Mazatlan
BEGIN:STANDARD
TZOFFSETFROM:-0700
TZOFFSETTO:-0700
TZNAME:MST
DTSTART:20240101T000000
END:STANDARD
END:VTIMEZONE
BEGIN:VEVENT
DTSTART;TZID=America/Mazatlan:20250701T160000
DTEND;TZID=America/Mazatlan:20250702T200000
DTSTAMP:20260421T012756
CREATED:20250616T191408Z
LAST-MODIFIED:20250616T191409Z
UID:3490-1751385600-1751486400@canacintramazatlan.com.mx
SUMMARY:CAPACITACIÓN EL LÍDER Y SU EQUIPO DE TRABJO
DESCRIPTION:¿Tienes un equipo a tu cargo o aspiras a dirigir uno?\nHoy más que nunca\, el liderazgo no se trata solo de mandar\, sino de conectar\, comunicar y guiar con propósito.\n\n\n\n Curso presencial: El líder y su equipo de trabajo\n Modalidad: Presencial\n Duración: 8 horas\n\n\n\nEn este curso aprenderás a:\n Fortalecer tu liderazgo personal y profesional\n Manejar conflictos de forma positiva\n Motivar\, empoderar y coordinar equipos con claridad\n Asumir roles estratégicos dentro del entorno laboral\n\n\n\n Ideal para jóvenes con aspiraciones de liderazgo\, emprendedores\, jefaturas y cualquier persona que trabaje con equipos humanos.\n\n\n Las organizaciones que prosperan hoy son las que tienen líderes conscientes\, empáticos y estratégicos. ¡Prepárate para ser uno de ellos!\n\n\n\n Informes e inscripciones:\n Servicios@canacintramazatlan.com.mx\n 669 3104924\n\n\n Escríbenos para más información y asegura tu lugar.
URL:https://canacintramazatlan.com.mx/eventos/capacitacion-el-lider-y-su-equipo-de-trabjo/
LOCATION:INSTITUTO POLITÉCNICO NACIONAL\, MAZATLÁN
CATEGORIES:Capacitación
ATTACH;FMTTYPE=image/jpeg:https://canacintramazatlan.com.mx/wp-content/uploads/2025/06/WhatsApp-Image-2025-06-13-at-3.04.03-PM.jpeg
END:VEVENT
BEGIN:VEVENT
DTSTART;TZID=America/Mazatlan:20250705T090000
DTEND;TZID=America/Mazatlan:20250705T140000
DTSTAMP:20260421T012756
CREATED:20250616T185817Z
LAST-MODIFIED:20250616T190439Z
UID:3481-1751706000-1751724000@canacintramazatlan.com.mx
SUMMARY:CURSO ONLINE INTELIGENCIA ARTIFICIAL: DESAFÍOS Y OPORTUNIDADES
DESCRIPTION:¿Estás listo para comprender el poder y los retos de la inteligencia artificial en México y el mundo?La IA ya está transformando industrias como el turismo\, la agricultura\, la seguridad y el comercio. No te quedes atrás. Curso en línea: Inteligencia Artificial: desafíos y oportunidades Impartido por la Dra. Flor de Guadalupe Ortiz Gómez\, investigadora mexicana nominada en la categoría “AI Researcher” de los Women in AI Benelux Awards 2025\, reconocimiento internacional en Europa. Fecha: Sábado 5 de julio Horario: 9:00 AM a 2:00 PM Modalidad: En línea En este curso aprenderás: Qué es la IA\, el Machine Learning y el Deep Learning Cómo se está aplicando la IA en México actualmente Retos éticos\, oportunidades reales y tendencias globales Ideal para jóvenes\, emprendedores\, profesionistas y líderes que desean tomar decisiones informadas y estratégicas con ayuda de la tecnología. Informes e inscripciones: Servicios@canacintramazatlan.com.mx 669 3104924 ¡Aprovecha esta oportunidad para entender y aplicar la inteligencia artificial de forma ética\, útil y con visión de futuro!
URL:https://canacintramazatlan.com.mx/eventos/curso-online-inteligencia-artificial-desafios-y-oportunidades/
LOCATION:VIRTUAL
CATEGORIES:Capacitación
ATTACH;FMTTYPE=image/jpeg:https://canacintramazatlan.com.mx/wp-content/uploads/2025/06/IA-Julio-Canacintra-1.jpeg
END:VEVENT
BEGIN:VEVENT
DTSTART;TZID=America/Mazatlan:20250714T090000
DTEND;TZID=America/Mazatlan:20250721T140000
DTSTAMP:20260421T012756
CREATED:20250709T193647Z
LAST-MODIFIED:20250709T193648Z
UID:3540-1752483600-1753106400@canacintramazatlan.com.mx
SUMMARY:TALLER INFANTIL “ASTRONAUTAS Y SUS MASCOTAS”
DESCRIPTION:Una experiencia única que une la ciencia\, el espacio y el amor por los animales \nCANACINTRA Mazatlán\, en colaboración con la Psic. Zulema Elizabeth\, invita a niñas y niños de 4 a 13 años a participar en este emocionante taller de verano\, diseñado para despertar la curiosidad\, la creatividad y el pensamiento científico\, todo en un entorno divertido y seguro. \n📅 Fechas disponibles:\n\nSemana 1: del 14 al 18 de julio\nSemana 2: del 21 al 25 de julio🕘 Horario: 9:00 a.m. a 2:00 p.m.\n\n¿Qué incluye esta misión espacial?\n\n🚀 Actividades para convertirse en un auténtico astronauta explorador\n🌌 Aprendizaje interactivo sobre planetas\, estrellas y constelaciones\n🔭 Uso de telescopios para observar como un verdadero científico espacial\n🎨 Creación de arte galáctico y manualidades interplanetarias\n🧪 Experimentos divertidos inspirados en una base espacial\n🐾 Convivencia con adorables mascotas reales\n🎉 Juegos\, dinámicas\, ciencia divertida y la participación de empresas invitadas\n\n¡Una experiencia pensada para los pequeños exploradores del universo!\nInformes y registro: \n📱 669 327 7673 \nServicios@canacintramazatlan.com.mx
URL:https://canacintramazatlan.com.mx/eventos/taller-infantil-astronautas-y-sus-mascotas/
LOCATION:Canacintra Mazatlán\, Av. Emilio Barragán #147 2do Piso\, Col. Centro\, Mazatlán\, Sinaloa\, 82000\, Mexico
CATEGORIES:TALLER
ATTACH;FMTTYPE=image/jpeg:https://canacintramazatlan.com.mx/wp-content/uploads/2025/07/WhatsApp-Image-2025-06-30-at-9.13.50-AM.jpeg
ORGANIZER;CN="Canacintra Mazatl%C3%A1n":MAILTO:informacion@canacintramazatlan.com.mx, servicios@canacintramazatlan.com.mx
END:VEVENT
BEGIN:VEVENT
DTSTART;TZID=America/Mazatlan:20250725T180000
DTEND;TZID=America/Mazatlan:20250725T200000
DTSTAMP:20260421T012756
CREATED:20250704T215222Z
LAST-MODIFIED:20250704T215223Z
UID:3520-1753466400-1753473600@canacintramazatlan.com.mx
SUMMARY:CERTIFICACIÓN: TRANSFORM-AI
DESCRIPTION:AI práctica para tu día a día laboral \n¿Te interesa aplicar inteligencia artificial en tu trabajo\, pero no tienes experiencia previa? Esta certificación es para ti. \nIniciamos el 25 de julio (viernes)Modalidad: 100% online\, en vivo \n🕖 Horario: Viernes de 19:00 a 21:00 hrs (CDMX) \n🔹 Aprende herramientas de IA simples\, prácticas y aplicables🔹 Sin necesidad de conocimientos técnicos previos🔹 Aplica lo aprendido desde la primera clase🔹 Avalada por instituciones reconocidas🔹 Organiza: CANACINTRA Mazatlán e IDI \n📩 Inscripciones: servicios@canacintramazatlan.com.mx📞 Informes: 669 310 4924
URL:https://canacintramazatlan.com.mx/eventos/certificacion-transform-ai/
LOCATION:VIRTUAL
CATEGORIES:Capacitación
ATTACH;FMTTYPE=image/jpeg:https://canacintramazatlan.com.mx/wp-content/uploads/2025/07/WhatsApp-Image-2025-07-01-at-4.23.36-PM.jpeg
END:VEVENT
END:VCALENDAR